BEGIN:VCALENDAR
VERSION:2.0
PRODID:-//Handweavers Guild of the New River Valley - ECPv6.15.20//NONSGML v1.0//EN
CALSCALE:GREGORIAN
METHOD:PUBLISH
X-WR-CALNAME:Handweavers Guild of the New River Valley
X-ORIGINAL-URL:https://handweaversguild.org
X-WR-CALDESC:Events for Handweavers Guild of the New River Valley
REFRESH-INTERVAL;VALUE=DURATION:PT1H
X-Robots-Tag:noindex
X-PUBLISHED-TTL:PT1H
BEGIN:VTIMEZONE
TZID:America/New_York
BEGIN:DAYLIGHT
TZOFFSETFROM:-0500
TZOFFSETTO:-0400
TZNAME:EDT
DTSTART:20250309T070000
END:DAYLIGHT
BEGIN:STANDARD
TZOFFSETFROM:-0400
TZOFFSETTO:-0500
TZNAME:EST
DTSTART:20251102T060000
END:STANDARD
BEGIN:DAYLIGHT
TZOFFSETFROM:-0500
TZOFFSETTO:-0400
TZNAME:EDT
DTSTART:20260308T070000
END:DAYLIGHT
BEGIN:STANDARD
TZOFFSETFROM:-0400
TZOFFSETTO:-0500
TZNAME:EST
DTSTART:20261101T060000
END:STANDARD
BEGIN:DAYLIGHT
TZOFFSETFROM:-0500
TZOFFSETTO:-0400
TZNAME:EDT
DTSTART:20270314T070000
END:DAYLIGHT
BEGIN:STANDARD
TZOFFSETFROM:-0400
TZOFFSETTO:-0500
TZNAME:EST
DTSTART:20271107T060000
END:STANDARD
END:VTIMEZONE
BEGIN:VEVENT
DTSTART;TZID=America/New_York:20260517T140000
DTEND;TZID=America/New_York:20260517T160000
DTSTAMP:20260424T114520
CREATED:20250920T152956Z
LAST-MODIFIED:20251120T131457Z
UID:1874-1779026400-1779033600@handweaversguild.org
SUMMARY:May Meeting - Annual Yard Sale
DESCRIPTION:Annual Fiber “Yard Sale” – members bring yarn\,  weaving equipment\, weaving books\, etc\, that they no longer need and offer them for sale to others.  Often there are items available for free. \nNOTE: this meeting is the 3rd Sunday\, not the usual 2nd Sunday\, due to Mother’s Day.
URL:https://handweaversguild.org/event/may-meeting-annual-yard-sale/
LOCATION:Meadowbrook Community Center\, 267 Alleghany Spring Rd\, Shawsville\, 24162\, United States
END:VEVENT
BEGIN:VEVENT
DTSTART;TZID=America/New_York:20261002T090000
DTEND;TZID=America/New_York:20261003T160000
DTSTAMP:20260424T114520
CREATED:20260212T175742Z
LAST-MODIFIED:20260212T175742Z
UID:1979-1790931600-1791043200@handweaversguild.org
SUMMARY:Workshop with Karen Donde - "This Doesn't Look Like Plain Weave"
DESCRIPTION:2 day workshop with instructor Karen Donde. For more info\, visit Karen’s page: \nhttps://karendondehandwovens.com/home.html
URL:https://handweaversguild.org/event/workshop-with-karen-donde-this-doesnt-look-like-plain-weave/
END:VEVENT
END:VCALENDAR